BEGIN:VCALENDAR
VERSION:2.0
PRODID:-//Marine Park Lossiemouth - ECPv4.9.13//NONSGML v1.0//EN
CALSCALE:GREGORIAN
METHOD:PUBLISH
X-WR-CALNAME:Marine Park Lossiemouth
X-ORIGINAL-URL:https://marineparklossie.org.uk
X-WR-CALDESC:Events for Marine Park Lossiemouth
BEGIN:VTIMEZONE
TZID:UTC
BEGIN:STANDARD
TZOFFSETFROM:+0000
TZOFFSETTO:+0000
TZNAME:UTC
DTSTART:20200101T000000
END:STANDARD
END:VTIMEZONE
BEGIN:VEVENT
DTSTART;TZID=UTC:20200313T183000
DTEND;TZID=UTC:20200313T220000
DTSTAMP:20260420T055857
CREATED:20200305T171130Z
LAST-MODIFIED:20200305T171130Z
UID:2657-1584124200-1584136800@marineparklossie.org.uk
SUMMARY:Tombola Bingo
DESCRIPTION:Doors open 6.30pm eyes down 7.30pm \, half time refreshments and raffle \n
URL:https://marineparklossie.org.uk/event/tombola-bingo/
LOCATION:Lossiemouth Football Club\, 39 Macduff Street\, Lossiemouth\, Moray\, IV31 6ET\, United Kingdom
CATEGORIES:Fundraising
ATTACH;FMTTYPE=image/jpeg:https://marineparklossie.org.uk/wp-content/uploads/2020/03/3c7654b9-8eeb-44e1-8573-ee4fa541e067.jpg
END:VEVENT
END:VCALENDAR