BEGIN:VCALENDAR
VERSION:2.0
PRODID:-//Marine Park Lossiemouth - ECPv4.9.13//NONSGML v1.0//EN
CALSCALE:GREGORIAN
METHOD:PUBLISH
X-WR-CALNAME:Marine Park Lossiemouth
X-ORIGINAL-URL:https://marineparklossie.org.uk
X-WR-CALDESC:Events for Marine Park Lossiemouth
BEGIN:VTIMEZONE
TZID:UTC
BEGIN:STANDARD
TZOFFSETFROM:+0000
TZOFFSETTO:+0000
TZNAME:UTC
DTSTART:20180101T000000
END:STANDARD
END:VTIMEZONE
BEGIN:VEVENT
DTSTART;TZID=UTC:20181123T190000
DTEND;TZID=UTC:20181123T213000
DTSTAMP:20260420T074024
CREATED:20181016T152455Z
LAST-MODIFIED:20181016T152455Z
UID:2493-1542999600-1543008600@marineparklossie.org.uk
SUMMARY:Tombola bingo night
DESCRIPTION:Eyes down 7.30pm \n
URL:https://marineparklossie.org.uk/event/tombola-bingo-night/
LOCATION:Lossiemouth Football Club\, 39 Macduff Street\, Lossiemouth\, Moray\, IV31 6ET\, United Kingdom
CATEGORIES:Fundraising
ATTACH;FMTTYPE=image/jpeg:https://marineparklossie.org.uk/wp-content/uploads/2018/10/tombola.jpg
END:VEVENT
END:VCALENDAR