BEGIN:VCALENDAR
VERSION:2.0
PRODID:-//Marine Park Lossiemouth - ECPv4.9.13//NONSGML v1.0//EN
CALSCALE:GREGORIAN
METHOD:PUBLISH
X-WR-CALNAME:Marine Park Lossiemouth
X-ORIGINAL-URL:https://marineparklossie.org.uk
X-WR-CALDESC:Events for Marine Park Lossiemouth
BEGIN:VTIMEZONE
TZID:UTC
BEGIN:STANDARD
TZOFFSETFROM:+0000
TZOFFSETTO:+0000
TZNAME:UTC
DTSTART:20180101T000000
END:STANDARD
END:VTIMEZONE
BEGIN:VEVENT
DTSTART;TZID=UTC:20180615T100000
DTEND;TZID=UTC:20180615T140000
DTSTAMP:20260420T073301
CREATED:20180522T090606Z
LAST-MODIFIED:20180522T090606Z
UID:2454-1529056800-1529071200@marineparklossie.org.uk
SUMMARY:Teddy Bears' Picnic
DESCRIPTION:Mums and Dads\, Grannies and Grandpas\, toddler groups and  Nurseries – There is an open Teddy Bears picnic day in Marine Park Lossiemouth on Friday 15th June. Come along with your teddys and little ones to enjoy a run around in the park and a little picnic with your teddys. There will be a Marquee tent for use and toilet facilities. Bring your picnic mats and snacks and enjoy some fun in the park .\n For more information email actionmarinepark@live.co.uk or call Liz on 07807 770057\n
URL:https://marineparklossie.org.uk/event/teddy-bears-picnic/
LOCATION:Marine Park\, Stotfield Road\, Lossiemouth\, Moray\, IV31 6QP\, United Kingdom
CATEGORIES:Fundraising
ATTACH;FMTTYPE=image/jpeg:https://marineparklossie.org.uk/wp-content/uploads/2018/05/teddybearpicnic2.jpg
END:VEVENT
END:VCALENDAR