BEGIN:VCALENDAR
VERSION:2.0
PRODID:-//Marine Park Lossiemouth - ECPv4.9.13//NONSGML v1.0//EN
CALSCALE:GREGORIAN
METHOD:PUBLISH
X-WR-CALNAME:Marine Park Lossiemouth
X-ORIGINAL-URL:https://marineparklossie.org.uk
X-WR-CALDESC:Events for Marine Park Lossiemouth
BEGIN:VTIMEZONE
TZID:UTC
BEGIN:STANDARD
TZOFFSETFROM:+0000
TZOFFSETTO:+0000
TZNAME:UTC
DTSTART:20180101T000000
END:STANDARD
END:VTIMEZONE
BEGIN:VEVENT
DTSTART;TZID=UTC:20180704T100000
DTEND;TZID=UTC:20180704T170000
DTSTAMP:20260420T075107
CREATED:20180302T223333Z
LAST-MODIFIED:20180302T223333Z
UID:2401-1530698400-1530723600@marineparklossie.org.uk
SUMMARY:Seafest Football Bonanza
DESCRIPTION:All equipment provided.  All ages welcome \n
URL:https://marineparklossie.org.uk/event/seafest-football-bonanza/
LOCATION:Marine Park\, Stotfield Road\, Lossiemouth\, Moray\, IV31 6QP\, United Kingdom
CATEGORIES:Football
ATTACH;FMTTYPE=image/jpeg:https://marineparklossie.org.uk/wp-content/uploads/2018/03/AMP-Football-logo-1.jpg
END:VEVENT
END:VCALENDAR