BEGIN:VCALENDAR
VERSION:2.0
PRODID:-//Marine Park Lossiemouth - ECPv4.9.13//NONSGML v1.0//EN
CALSCALE:GREGORIAN
METHOD:PUBLISH
X-WR-CALNAME:Marine Park Lossiemouth
X-ORIGINAL-URL:https://marineparklossie.org.uk
X-WR-CALDESC:Events for Marine Park Lossiemouth
BEGIN:VTIMEZONE
TZID:UTC
BEGIN:STANDARD
TZOFFSETFROM:+0000
TZOFFSETTO:+0000
TZNAME:UTC
DTSTART:20180101T000000
END:STANDARD
END:VTIMEZONE
BEGIN:VEVENT
DTSTART;TZID=UTC:20180302T080000
DTEND;TZID=UTC:20180302T170000
DTSTAMP:20260420T073714
CREATED:20180302T223958Z
LAST-MODIFIED:20180302T223958Z
UID:2407-1519977600-1520010000@marineparklossie.org.uk
SUMMARY:Race Night
DESCRIPTION:Missed out on the Grand National?  Don’t delay and book in to the Race Night! \n
URL:https://marineparklossie.org.uk/event/race-night/
LOCATION:Lossiemouth Football Club\, 39 Macduff Street\, Lossiemouth\, Moray\, IV31 6ET\, United Kingdom
CATEGORIES:Fundraising
ATTACH;FMTTYPE=image/jpeg:https://marineparklossie.org.uk/wp-content/uploads/2018/03/AMP-Football-logo.jpg
END:VEVENT
END:VCALENDAR