BEGIN:VCALENDAR
VERSION:2.0
PRODID:-//Marine Park Lossiemouth - ECPv4.9.13//NONSGML v1.0//EN
CALSCALE:GREGORIAN
METHOD:PUBLISH
X-WR-CALNAME:Marine Park Lossiemouth
X-ORIGINAL-URL:https://marineparklossie.org.uk
X-WR-CALDESC:Events for Marine Park Lossiemouth
BEGIN:VTIMEZONE
TZID:UTC
BEGIN:STANDARD
TZOFFSETFROM:+0000
TZOFFSETTO:+0000
TZNAME:UTC
DTSTART:20190101T000000
END:STANDARD
END:VTIMEZONE
BEGIN:VEVENT
DTSTART;TZID=UTC:20190420T140000
DTEND;TZID=UTC:20190420T160000
DTSTAMP:20260420T075532
CREATED:20190327T153910Z
LAST-MODIFIED:20190327T154221Z
UID:2566-1555768800-1555776000@marineparklossie.org.uk
SUMMARY:Quorn Family Tennis Event
DESCRIPTION:1 adult and 1 child per team – all ages and abilities welcome. \nGreat family fun – equipment provided. \nRegister for this free event \n  \n  \n  \n
URL:https://marineparklossie.org.uk/event/quorn-family-tennis-event/
LOCATION:Marine Park\, Stotfield Road\, Lossiemouth\, Moray\, IV31 6QP\, United Kingdom
CATEGORIES:Free Tennis Events
END:VEVENT
END:VCALENDAR