BEGIN:VCALENDAR
VERSION:2.0
PRODID:-//Marine Park Lossiemouth - ECPv4.9.13//NONSGML v1.0//EN
CALSCALE:GREGORIAN
METHOD:PUBLISH
X-WR-CALNAME:Marine Park Lossiemouth
X-ORIGINAL-URL:https://marineparklossie.org.uk
X-WR-CALDESC:Events for Marine Park Lossiemouth
BEGIN:VTIMEZONE
TZID:UTC
BEGIN:STANDARD
TZOFFSETFROM:+0000
TZOFFSETTO:+0000
TZNAME:UTC
DTSTART:20180101T000000
END:STANDARD
END:VTIMEZONE
BEGIN:VEVENT
DTSTART;TZID=UTC:20181027T190000
DTEND;TZID=UTC:20181027T220000
DTSTAMP:20260420T055838
CREATED:20180302T224546Z
LAST-MODIFIED:20181016T153555Z
UID:2418-1540666800-1540677600@marineparklossie.org.uk
SUMMARY:Quiz Night
DESCRIPTION:Get your teams ready for an amazing night of Quiz! \n
URL:https://marineparklossie.org.uk/event/quiz-night/
LOCATION:Sports & Social Club\, Queens Lane\, Lossiemouth\, Moray\, IV31 6DR
CATEGORIES:Fundraising
ATTACH;FMTTYPE=image/jpeg:https://marineparklossie.org.uk/wp-content/uploads/2018/03/quiznight.jpg
END:VEVENT
END:VCALENDAR