BEGIN:VCALENDAR
VERSION:2.0
PRODID:-//Marine Park Lossiemouth - ECPv4.9.13//NONSGML v1.0//EN
CALSCALE:GREGORIAN
METHOD:PUBLISH
X-WR-CALNAME:Marine Park Lossiemouth
X-ORIGINAL-URL:https://marineparklossie.org.uk
X-WR-CALDESC:Events for Marine Park Lossiemouth
BEGIN:VTIMEZONE
TZID:UTC
BEGIN:STANDARD
TZOFFSETFROM:+0000
TZOFFSETTO:+0000
TZNAME:UTC
DTSTART:20190101T000000
END:STANDARD
END:VTIMEZONE
BEGIN:VEVENT
DTSTART;TZID=UTC:20190823T140000
DTEND;TZID=UTC:20190823T150000
DTSTAMP:20260420T060254
CREATED:20190812T101927Z
LAST-MODIFIED:20190812T101940Z
UID:2598-1566568800-1566572400@marineparklossie.org.uk
SUMMARY:Musical Memories
DESCRIPTION:Come along and enjoy a sing song from popular and Scottish tunes from days gone by.  Free refreshments available and donations welcome. \n
URL:https://marineparklossie.org.uk/event/musical-memories/
LOCATION:Marine Park\, Stotfield Road\, Lossiemouth\, Moray\, IV31 6QP\, United Kingdom
END:VEVENT
END:VCALENDAR