BEGIN:VCALENDAR
VERSION:2.0
PRODID:-//Marine Park Lossiemouth - ECPv4.9.13//NONSGML v1.0//EN
CALSCALE:GREGORIAN
METHOD:PUBLISH
X-WR-CALNAME:Marine Park Lossiemouth
X-ORIGINAL-URL:https://marineparklossie.org.uk
X-WR-CALDESC:Events for Marine Park Lossiemouth
BEGIN:VTIMEZONE
TZID:UTC
BEGIN:STANDARD
TZOFFSETFROM:+0000
TZOFFSETTO:+0000
TZNAME:UTC
DTSTART:20190101T000000
END:STANDARD
END:VTIMEZONE
BEGIN:VEVENT
DTSTART;TZID=UTC:20190621T180000
DTEND;TZID=UTC:20190621T190000
DTSTAMP:20260420T073857
CREATED:20190327T153445Z
LAST-MODIFIED:20190327T153505Z
UID:2563-1561140000-1561143600@marineparklossie.org.uk
SUMMARY:Magician Show
DESCRIPTION:Will be hosted in the marquee in the Marine Park. Tickets available to buy online. \n
URL:https://marineparklossie.org.uk/event/magician-show/
LOCATION:Marine Park\, Stotfield Road\, Lossiemouth\, Moray\, IV31 6QP\, United Kingdom
CATEGORIES:Fundraising
END:VEVENT
END:VCALENDAR