BEGIN:VCALENDAR
VERSION:2.0
PRODID:-//Marine Park Lossiemouth - ECPv4.9.13//NONSGML v1.0//EN
CALSCALE:GREGORIAN
METHOD:PUBLISH
X-WR-CALNAME:Marine Park Lossiemouth
X-ORIGINAL-URL:https://marineparklossie.org.uk
X-WR-CALDESC:Events for Marine Park Lossiemouth
BEGIN:VTIMEZONE
TZID:UTC
BEGIN:STANDARD
TZOFFSETFROM:+0000
TZOFFSETTO:+0000
TZNAME:UTC
DTSTART:20190101T000000
END:STANDARD
END:VTIMEZONE
BEGIN:VEVENT
DTSTART;TZID=UTC:20190630T110000
DTEND;TZID=UTC:20190630T130000
DTSTAMP:20260420T060905
CREATED:20180302T222945Z
LAST-MODIFIED:20190327T155041Z
UID:2396-1561892400-1561899600@marineparklossie.org.uk
SUMMARY:Nature Valley Big Tennis Weekend
DESCRIPTION:Come along for some free tennis for all.  All equipment provided.  All ages welcome \nIn conjunction with Seafest. \n  \n
URL:https://marineparklossie.org.uk/event/great-british-tennis-weekend-2/
LOCATION:Marine Park\, Stotfield Road\, Lossiemouth\, Moray\, IV31 6QP\, United Kingdom
CATEGORIES:Free Tennis Events
ATTACH;FMTTYPE=image/jpeg:https://marineparklossie.org.uk/wp-content/uploads/2018/03/AMP-Tennis-logo.jpg
END:VEVENT
END:VCALENDAR