BEGIN:VCALENDAR
VERSION:2.0
PRODID:-//Marine Park Lossiemouth - ECPv4.9.13//NONSGML v1.0//EN
CALSCALE:GREGORIAN
METHOD:PUBLISH
X-WR-CALNAME:Marine Park Lossiemouth
X-ORIGINAL-URL:https://marineparklossie.org.uk
X-WR-CALDESC:Events for Marine Park Lossiemouth
BEGIN:VTIMEZONE
TZID:UTC
BEGIN:STANDARD
TZOFFSETFROM:+0000
TZOFFSETTO:+0000
TZNAME:UTC
DTSTART:20190101T000000
END:STANDARD
END:VTIMEZONE
BEGIN:VEVENT
DTSTART;TZID=UTC:20190622T120000
DTEND;TZID=UTC:20190622T160000
DTSTAMP:20260420T073557
CREATED:20180302T224108Z
LAST-MODIFIED:20190327T153603Z
UID:2410-1561204800-1561219200@marineparklossie.org.uk
SUMMARY:Fun Day
DESCRIPTION:Lots of new activities! \n
URL:https://marineparklossie.org.uk/event/fun-day/
LOCATION:Marine Park\, Stotfield Road\, Lossiemouth\, Moray\, IV31 6QP\, United Kingdom
CATEGORIES:Fundraising
ATTACH;FMTTYPE=image/jpeg:https://marineparklossie.org.uk/wp-content/uploads/2018/03/AMP-Football-logo.jpg
END:VEVENT
END:VCALENDAR