BEGIN:VCALENDAR
VERSION:2.0
PRODID:-//Marine Park Lossiemouth - ECPv4.9.13//NONSGML v1.0//EN
CALSCALE:GREGORIAN
METHOD:PUBLISH
X-WR-CALNAME:Marine Park Lossiemouth
X-ORIGINAL-URL:https://marineparklossie.org.uk
X-WR-CALDESC:Events for Marine Park Lossiemouth
BEGIN:VTIMEZONE
TZID:UTC
BEGIN:STANDARD
TZOFFSETFROM:+0000
TZOFFSETTO:+0000
TZNAME:UTC
DTSTART:20190101T000000
END:STANDARD
END:VTIMEZONE
BEGIN:VEVENT
DTSTART;TZID=UTC:20190824T120000
DTEND;TZID=UTC:20190824T160000
DTSTAMP:20260420T060035
CREATED:20180302T224338Z
LAST-MODIFIED:20190327T153655Z
UID:2414-1566648000-1566662400@marineparklossie.org.uk
SUMMARY:Fun Day
DESCRIPTION:
URL:https://marineparklossie.org.uk/event/fun-day-2/
LOCATION:Marine Park\, Stotfield Road\, Lossiemouth\, Moray\, IV31 6QP\, United Kingdom
CATEGORIES:Fundraising
END:VEVENT
END:VCALENDAR