BEGIN:VCALENDAR
VERSION:2.0
PRODID:-//Marine Park Lossiemouth - ECPv4.9.13//NONSGML v1.0//EN
CALSCALE:GREGORIAN
METHOD:PUBLISH
X-WR-CALNAME:Marine Park Lossiemouth
X-ORIGINAL-URL:https://marineparklossie.org.uk
X-WR-CALDESC:Events for Marine Park Lossiemouth
BEGIN:VTIMEZONE
TZID:UTC
BEGIN:STANDARD
TZOFFSETFROM:+0000
TZOFFSETTO:+0000
TZNAME:UTC
DTSTART:20190101T000000
END:STANDARD
END:VTIMEZONE
BEGIN:VEVENT
DTSTART;TZID=UTC:20190421T130000
DTEND;TZID=UTC:20190421T160000
DTSTAMP:20260420T073521
CREATED:20180302T223747Z
LAST-MODIFIED:20190327T150805Z
UID:2405-1555851600-1555862400@marineparklossie.org.uk
SUMMARY:Easter Fun
DESCRIPTION:Roll your eggs\, best dressed egg competition and remember to wear your Easter Bonnet! \n
URL:https://marineparklossie.org.uk/event/easter-fun/
LOCATION:Marine Park\, Stotfield Road\, Lossiemouth\, Moray\, IV31 6QP\, United Kingdom
CATEGORIES:Fundraising
ATTACH;FMTTYPE=image/jpeg:https://marineparklossie.org.uk/wp-content/uploads/2018/03/easter.jpg
END:VEVENT
END:VCALENDAR